BEGIN:VCALENDAR
VERSION:2.0
PRODID:-//Saalfelden-Leogang.com//NONSGML kigkonsult.se iCalcreator 2.22.1/
 /EN
METHOD:PUBLISH
X-WR-CALNAME;LANGUAGE=en:Saalfelden-Leogang.com
X-WR-CALDESC;LANGUAGE=en:Saalfelden-Leogang.com
X-WR-TIMEZONE;LANGUAGE=en:Europe/Berlin
BEGIN:VEVENT
UID:20260421T135525CEST-4563TvOmXm@Saalfelden-Leogang.com
DTSTAMP:20260421T115525Z
DESCRIPTION;LANGUAGE=en:Austria\n\n\n\nSigrid Langrehr - vocals\n\nLaila Re
 ichenpfader - vocals \n\nHubert Sommerauer - vocals \n\nLucia Steidl - voc
 als \n\nMagdalena Heller - dance \n\nPaulina Krasser - performance \n\nEva
  Maria Schitter - performance \n\nBernhard Vierthaler - vocals\, performan
 ce \n\nLea Wiednig - performance \n\nCornel Entfellner - performance \n\n
 \n\nMisz Sputnik sends signals from space into the Alpine music landscape\
 , which offers everything from pop\, schlager\, après-ski to German rap an
 d wave\, pulsating above and below alpine pastures and concrete. Queer-fem
 inist Alpine aliens perform in exotic costumes and masks in front of weird
  projections. The party level is pretty high\, guaranteed\, and with rathe
 r politically sarcastic lyrics\, it generates a cathartic trip into the un
 conscious of the Alpine region from an intergalactic perspective.
DTSTART:20250823T190000Z
DTEND:20250823T200000Z
LOCATION;LANGUAGE=en:Kunsthaus Nexus
SUMMARY;LANGUAGE=en:Misz Sputnik
END:VEVENT
END:VCALENDAR
